BEGIN:VCALENDAR
VERSION:2.0
CALSCALE:GREGORIAN
PRODID:-//Diputació de Barcelona//DibaCMS//EN
BEGIN:VEVENT
UID:5466
DTSTAMP:20260422T142144
DTSTART:20260424T190000
DTEND:20260424T190000
SUMMARY:Parlem del PLATER
LOCATION:Carrer de la Verge de Montserrat, 8 08178 Collsuspina
METHOD:PUBLISH
X-WR-CALNAME:collsuspina@diba.cat
X-WR-TIMEZONE:Europe/Madrid
DESCRIPTION:Convocatòria als veïns i veïnes de Collsuspina.

⏰ 19h
📍 Local Social

URI:https://www.collsuspina.cat/actualitat/agenda/parlem-del-plater.html
CLASS:PUBLIC
END:VEVENT
END:VCALENDAR
