BEGIN:VCALENDAR
VERSION:2.0
CALSCALE:GREGORIAN
PRODID:-//Diputació de Barcelona//DibaCMS//EN
BEGIN:VEVENT
UID:5464
DTSTAMP:20260422T141101
DTSTART:20260426T110000
DTEND:20260426T130000
SUMMARY:Matinal de Sant Jordi
LOCATION:08178 Collsuspina
METHOD:PUBLISH
X-WR-CALNAME:collsuspina@diba.cat
X-WR-TIMEZONE:Europe/Madrid
DESCRIPTION:Entrega de premis del 2n certamen literari

Lectura de textos i poemes 

Taller d'Art i Reciclatge

📍 Plaça Major
⏰ de 11h a 13h

URI:https://www.collsuspina.cat/actualitat/agenda/matinal-de-sant-jordi.html
CLASS:PUBLIC
END:VEVENT
END:VCALENDAR
