BEGIN:VCALENDAR
VERSION:2.0
CALSCALE:GREGORIAN
PRODID:-//Diputació de Barcelona//DibaCMS//EN
BEGIN:VEVENT
UID:5404
DTSTAMP:20260426T043500
DTSTART:20260127T123000
DTEND:20260127T133000
SUMMARY:Banca mòbil Gener
LOCATION:08178 Collsuspina
METHOD:PUBLISH
X-WR-CALNAME:collsuspina@diba.cat
X-WR-TIMEZONE:Europe/Madrid
DESCRIPTION:Caixa Bank

Aprofita els serveis de

Serveis de caixer automàtic

Serveis bancaris d'oficina

Atenció personalitzada sobre gestions

 

URI:https://www.collsuspina.cat/actualitat/agenda/5404-banca-mobil-gener.html
CLASS:PUBLIC
END:VEVENT
END:VCALENDAR
