BEGIN:VCALENDAR
VERSION:2.0
CALSCALE:GREGORIAN
PRODID:-//Diputació de Barcelona//DibaCMS//EN
BEGIN:VEVENT
UID:5397
DTSTAMP:20260426T032627
DTSTART:20260129T090000
DTEND:20260129T130000
SUMMARY:consultori gener 2026
LOCATION:Nou, 1 08178 Collsuspina
METHOD:PUBLISH
X-WR-CALNAME:collsuspina@diba.cat
X-WR-TIMEZONE:Europe/Madrid
DESCRIPTION:Passarà consulta la doctora Farràs i la infermera 

Telèfons de contacte  93 830 03 76 i CAP Tona  93 887 11 62.

 

URI:https://www.collsuspina.cat/actualitat/agenda/5397-consultori-gener-2026.html
CLASS:PUBLIC
END:VEVENT
END:VCALENDAR
