BEGIN:VCALENDAR
VERSION:2.0
CALSCALE:GREGORIAN
PRODID:-//Diputació de Barcelona//DibaCMS//EN
BEGIN:VEVENT
UID:5308
DTSTAMP:20260426T032912
DTSTART:20260123T000000
DTEND:20260123T000000
SUMMARY:Comanda col·lectiva gasoil 2025-2026
LOCATION:
METHOD:PUBLISH
X-WR-CALNAME:collsuspina@diba.cat
X-WR-TIMEZONE:Europe/Madrid
DESCRIPTION:⛽ S'obre el formulari per la comanda col·lectiva de gasoil pels veïns i veïnes del municipi de Collsuspina.

fes la comanda abans de les 12h del dimarts de la setmana del repartiment

a través de l’enllaç:

https://forms.gle/AYfRJz7xp6wADDTq5

o a través WhatsApp municipal (apartat catàleg)

URI:https://www.collsuspina.cat/actualitat/agenda/5308-comanda-collectiva-gasoil-2025-2026.html
CLASS:PUBLIC
END:VEVENT
END:VCALENDAR
