BEGIN:VCALENDAR
VERSION:2.0
CALSCALE:GREGORIAN
PRODID:-//Diputació de Barcelona//DibaCMS//EN
BEGIN:VEVENT
UID:1387
DTSTAMP:20260425T151729
DTSTART:20181001T180000
DTEND:20181001T180000
SUMMARY:Recordem l'1 d'octubre de 2017
LOCATION:08178 Collsuspina
METHOD:PUBLISH
X-WR-CALNAME:collsuspina@diba.cat
X-WR-TIMEZONE:Europe/Madrid
DESCRIPTION:Fem un berenar-sopar a la Plaça amb projecció d'imatges i debat!

URI:https://www.collsuspina.cat/actualitat/agenda/recordem-l1-doctubre-de-2017-collsuspina.html
CLASS:PUBLIC
END:VEVENT
END:VCALENDAR
