BEGIN:VCALENDAR
VERSION:2.0
CALSCALE:GREGORIAN
PRODID:-//Diputació de Barcelona//DibaCMS//EN
BEGIN:VEVENT
UID:1228
DTSTAMP:20260420T044809
DTSTART:20180805T230000
DTEND:20180805T230000
SUMMARY:Concert amb L'Eskerda
LOCATION:Carrer de la Verge de Montserrat, 8 08178 Collsuspina
METHOD:PUBLISH
X-WR-CALNAME:collsuspina@diba.cat
X-WR-TIMEZONE:Europe/Madrid
DESCRIPTION:Versions dels grups de rock català.

URI:https://www.collsuspina.cat/actualitat/agenda/concert-amb-leskerda-festa-gran-collsuspina-2018.html
CLASS:PUBLIC
END:VEVENT
END:VCALENDAR
