BEGIN:VCALENDAR
VERSION:2.0
CALSCALE:GREGORIAN
PRODID:-//Diputació de Barcelona//DibaCMS//EN
BEGIN:VEVENT
UID:1226
DTSTAMP:20260420T025154
DTSTART:20180805T220000
DTEND:20180805T220000
SUMMARY:Correfoc amb els Diables de Castellterçol
LOCATION:08178 Collsuspina
METHOD:PUBLISH
X-WR-CALNAME:collsuspina@diba.cat
X-WR-TIMEZONE:Europe/Madrid
DESCRIPTION:S'ompliran de foc i petards els carrers del Collsuspina.

URI:https://www.collsuspina.cat/actualitat/agenda/correfoc-amb-els-diables-de-castelltercol-festa-gran-collsuspina-2018.html
CLASS:PUBLIC
END:VEVENT
END:VCALENDAR
