BEGIN:VCALENDAR
VERSION:2.0
CALSCALE:GREGORIAN
PRODID:-//Diputació de Barcelona//DibaCMS//EN
BEGIN:VEVENT
UID:1224
DTSTAMP:20260420T024641
DTSTART:20180805T180000
DTEND:20180805T180000
SUMMARY:Partit de futbol de Festa Major
LOCATION:Zona esportiva 08178 Collsuspina
METHOD:PUBLISH
X-WR-CALNAME:collsuspina@diba.cat
X-WR-TIMEZONE:Europe/Madrid
DESCRIPTION:Organitzat pel CF Collsuspina.

URI:https://www.collsuspina.cat/actualitat/agenda/partit-de-futbol-de-festa-major-collsuspina-2018.html
CLASS:PUBLIC
END:VEVENT
END:VCALENDAR
