BEGIN:VCALENDAR
VERSION:2.0
CALSCALE:GREGORIAN
PRODID:-//Diputació de Barcelona//DibaCMS//EN
BEGIN:VEVENT
UID:1222
DTSTAMP:20260420T025428
DTSTART:20180805T170000
DTEND:20180805T170000
SUMMARY:Jocs rurals
LOCATION:Zona esportiva 08178 Collsuspina
METHOD:PUBLISH
X-WR-CALNAME:collsuspina@diba.cat
X-WR-TIMEZONE:Europe/Madrid
DESCRIPTION:Cada Família haurà de preparar quatre proves.

URI:https://www.collsuspina.cat/actualitat/agenda/jocs-rurals-festa-gran-collsuspina-2018.html
CLASS:PUBLIC
END:VEVENT
END:VCALENDAR
