BEGIN:VCALENDAR
VERSION:2.0
CALSCALE:GREGORIAN
PRODID:-//Diputació de Barcelona//DibaCMS//EN
BEGIN:VEVENT
UID:1220
DTSTAMP:20260420T043520
DTSTART:20180805T131500
DTEND:20180805T131500
SUMMARY:Vermut musical amb La Marta Rius
LOCATION:08178 Collsuspina
METHOD:PUBLISH
X-WR-CALNAME:collsuspina@diba.cat
X-WR-TIMEZONE:Europe/Madrid
DESCRIPTION:Inseparable del seu acordió, ens convida a jugar amb els sons d’un xilòfon, una bossa de plàstic o una capsa de música per la que ella mateixa composa les melodies.

URI:https://www.collsuspina.cat/actualitat/agenda/vermut-musical-amb-la-marta-rius-festa-gran-collsuspina-2018.html
CLASS:PUBLIC
END:VEVENT
END:VCALENDAR
