BEGIN:VCALENDAR
VERSION:2.0
CALSCALE:GREGORIAN
PRODID:-//Diputació de Barcelona//DibaCMS//EN
BEGIN:VEVENT
UID:1219
DTSTAMP:20260420T025650
DTSTART:20180805T121500
DTEND:20180805T121500
SUMMARY:Missa solemne de Festa Major
LOCATION:Nou, 6 08178 Collsuspina
METHOD:PUBLISH
X-WR-CALNAME:collsuspina@diba.cat
X-WR-TIMEZONE:Europe/Madrid
DESCRIPTION:
URI:https://www.collsuspina.cat/actualitat/agenda/missa-solemne-de-festa-major-collsuspina-2018.html
CLASS:PUBLIC
END:VEVENT
END:VCALENDAR
