BEGIN:VCALENDAR
VERSION:2.0
CALSCALE:GREGORIAN
PRODID:-//Diputació de Barcelona//DibaCMS//EN
BEGIN:VEVENT
UID:1217
DTSTAMP:20260420T025610
DTSTART:20180805T100000
DTEND:20180805T100000
SUMMARY:Animació infantil amb La Carbassa
LOCATION:Zona esportiva 08178 Collsuspina
METHOD:PUBLISH
X-WR-CALNAME:collsuspina@diba.cat
X-WR-TIMEZONE:Europe/Madrid
DESCRIPTION:Festa Holly per a totes les edats.

URI:https://www.collsuspina.cat/actualitat/agenda/animacio-infantil-amb-la-carbassa-festa-gran-collsuspina-2018.html
CLASS:PUBLIC
END:VEVENT
END:VCALENDAR
