BEGIN:VCALENDAR
VERSION:2.0
CALSCALE:GREGORIAN
PRODID:-//Diputació de Barcelona//DibaCMS//EN
BEGIN:VEVENT
UID:1215
DTSTAMP:20260420T025846
DTSTART:20180805T003000
DTEND:20180805T003000
SUMMARY:Rumba amb Tyto Alba
LOCATION:Carrer de la Verge de Montserrat, 8 08178 Collsuspina
METHOD:PUBLISH
X-WR-CALNAME:collsuspina@diba.cat
X-WR-TIMEZONE:Europe/Madrid
DESCRIPTION:Són aus nocturnes que esmolen les urpes cada vegada que se'ls convoca per a portar arreu el seu repertori de Festa Major.

URI:https://www.collsuspina.cat/actualitat/agenda/rumba-amb-tyto-alba-festa-gran-collsuspina-2018.html
CLASS:PUBLIC
END:VEVENT
END:VCALENDAR
