BEGIN:VCALENDAR
VERSION:2.0
CALSCALE:GREGORIAN
PRODID:-//Diputació de Barcelona//DibaCMS//EN
BEGIN:VEVENT
UID:1213
DTSTAMP:20260420T050156
DTSTART:20180804T220000
DTEND:20180804T220000
SUMMARY:Ball de Festa Major amb Orgue de Gats
LOCATION:Carrer de la Verge de Montserrat, 8 08178 Collsuspina
METHOD:PUBLISH
X-WR-CALNAME:collsuspina@diba.cat
X-WR-TIMEZONE:Europe/Madrid
DESCRIPTION:El millor repertori de ball amb cançons d’abans i èxits actuals per a qualsevol tipus de festa.

URI:https://www.collsuspina.cat/actualitat/agenda/ball-de-festa-major-amb-orgue-de-gats-festa-gran-collsuspina-2018.html
CLASS:PUBLIC
END:VEVENT
END:VCALENDAR
