BEGIN:VCALENDAR
VERSION:2.0
CALSCALE:GREGORIAN
PRODID:-//Diputació de Barcelona//DibaCMS//EN
BEGIN:VEVENT
UID:1211
DTSTAMP:20260420T030041
DTSTART:20180804T203000
DTEND:20180804T203000
SUMMARY:Botifarrada popular
LOCATION:Carrer de la Verge de Montserrat, 8 08178 Collsuspina
METHOD:PUBLISH
X-WR-CALNAME:collsuspina@diba.cat
X-WR-TIMEZONE:Europe/Madrid
DESCRIPTION:Al carrer de la Verge de Montserrat.

URI:https://www.collsuspina.cat/actualitat/agenda/botifarrada-popular-festa-gran-collsuspina-2018.html
CLASS:PUBLIC
END:VEVENT
END:VCALENDAR
