BEGIN:VCALENDAR
VERSION:2.0
CALSCALE:GREGORIAN
PRODID:-//Diputació de Barcelona//DibaCMS//EN
BEGIN:VEVENT
UID:1208
DTSTAMP:20260420T025127
DTSTART:20180804T193000
DTEND:20180804T193000
SUMMARY:Havaneres amb Havanerus de L'Esquirol
LOCATION:08178 Collsuspina
METHOD:PUBLISH
X-WR-CALNAME:collsuspina@diba.cat
X-WR-TIMEZONE:Europe/Madrid
DESCRIPTION:
URI:https://www.collsuspina.cat/actualitat/agenda/havaneres-amb-havanerus-de-lesquirol-festa-gran-collsuspina-2018.html
CLASS:PUBLIC
END:VEVENT
END:VCALENDAR
