BEGIN:VCALENDAR
VERSION:2.0
CALSCALE:GREGORIAN
PRODID:-//Diputació de Barcelona//DibaCMS//EN
BEGIN:VEVENT
UID:1204
DTSTAMP:20260420T030024
DTSTART:20180804T113000
DTEND:20180804T113000
SUMMARY:Torneig de voleibol
LOCATION:Zona esportiva 08178 Collsuspina
METHOD:PUBLISH
X-WR-CALNAME:collsuspina@diba.cat
X-WR-TIMEZONE:Europe/Madrid
DESCRIPTION:Es faran les parelles a les piscines i per pastanaguts i uberginius.

URI:https://www.collsuspina.cat/actualitat/agenda/torneig-de-voleibol-festa-gran-collsuspina-2018.html
CLASS:PUBLIC
END:VEVENT
END:VCALENDAR
