BEGIN:VCALENDAR
VERSION:2.0
CALSCALE:GREGORIAN
PRODID:-//Diputació de Barcelona//DibaCMS//EN
BEGIN:VEVENT
UID:1202
DTSTAMP:20260420T024943
DTSTART:20180804T090000
DTEND:20180804T090000
SUMMARY:Pedalada Popular
LOCATION:08178 Collsuspina
METHOD:PUBLISH
X-WR-CALNAME:collsuspina@diba.cat
X-WR-TIMEZONE:Europe/Madrid
DESCRIPTION:Distància de 12 a 15 kms, nivell familiar.

URI:https://www.collsuspina.cat/actualitat/agenda/pedalada-popular-festa-gran-collsuspina-2018.html
CLASS:PUBLIC
END:VEVENT
END:VCALENDAR
