BEGIN:VCALENDAR
VERSION:2.0
CALSCALE:GREGORIAN
PRODID:-//Diputació de Barcelona//DibaCMS//EN
BEGIN:VEVENT
UID:1200
DTSTAMP:20260420T025957
DTSTART:20180803T230000
DTEND:20180803T230000
SUMMARY:Balla amb Xaxi Xixarrus
LOCATION:Carrer de la Verge de Montserrat, 8 08178 Collsuspina
METHOD:PUBLISH
X-WR-CALNAME:collsuspina@diba.cat
X-WR-TIMEZONE:Europe/Madrid
DESCRIPTION:Del baile del cuadrado a la taza y la tetera, el que sigui per remenar la cadera.

URI:https://www.collsuspina.cat/actualitat/agenda/balla-amb-xaxi-xixarrus-festa-gran-collsuspina-2018.html
CLASS:PUBLIC
END:VEVENT
END:VCALENDAR
