BEGIN:VCALENDAR
VERSION:2.0
CALSCALE:GREGORIAN
PRODID:-//Diputació de Barcelona//DibaCMS//EN
BEGIN:VEVENT
UID:1198
DTSTAMP:20260420T071338
DTSTART:20180803T220000
DTEND:20180803T220000
SUMMARY:Teatre d'improvitzacions. Un recorregut absurd de vida
LOCATION:Carrer de la Verge de Montserrat, 8 08178 Collsuspina
METHOD:PUBLISH
X-WR-CALNAME:collsuspina@diba.cat
X-WR-TIMEZONE:Europe/Madrid
DESCRIPTION:Companyia TrencaEscenaris - Joves.

URI:https://www.collsuspina.cat/actualitat/agenda/teatre-dimprovitzacions-festa-gran-collsuspina-2018.html
CLASS:PUBLIC
END:VEVENT
END:VCALENDAR
